BEGIN:VCALENDAR
VERSION:2.0
PRODID:-//wp-events-plugin.com//7.1.7//EN
TZID:Europe/Berlin
X-WR-TIMEZONE:Europe/Berlin
BEGIN:VEVENT
UID:733@prachtregion.de
DTSTART;TZID=Europe/Berlin:20240821T140000
DTEND;TZID=Europe/Berlin:20240821T170000
DTSTAMP:20240703T055001Z
URL:https://prachtregion.de/event/22-schmalkalder-wandersommer-7/
SUMMARY:22. Schmalkalder Wandersommer
DESCRIPTION:Auch in diesem Jahr haben sich die Schmalkalder Wandervereine z
 usammengefunden und ein buntes Wanderprogramm für alle interessierten Wan
 derer erstellt. Vom 29. Juni bis zum 28 September 2024 finden elf geführt
 e Wanderungen durch Schmalkalden und die Umgebung statt. Eine Anmeldung zu
 m Wandern ist nicht nötig. Wer gerne teilnehmen möchte\, muss nur pünkt
 lich am Treffpunkt erscheinen und kann mit wandern.\n\n21.08.24\nÜber Sch
 örchfenster\, Kötze hängen\, Klimper Hochzeit und andere Eigenheiten so
 wie Asbacher Sagen &amp\; Mythen\nTreffpunkt: 14:00 Uhr Parkplatz Schloss 
 Wilhelmsburg (Kindergarten Hedwigswiese)\nWanderleitung: Karl Hauck\nRoute
 :\nBäckerhohle - Bohrmühle - Schellersteich - Fischstein\n9km / leicht
ATTACH;FMTTYPE=image/jpeg:https://prachtregion.de/wp-content/uploads/2024/
 07/KLEIN_200613kvrvtw1293_VOIGT_Kevin-Voigt_Regionalverbund-Thueringer-Wal
 d-e.V-6.jpg
LOCATION:Parkplatz Schloss Wilhelmsburg (Kindergarten Hedwigswiese)\, Hedwi
 gsweg 32\, Schmalkalden\, 98574\, Deutschland
X-APPLE-STRUCTURED-LOCATION;VALUE=URI;X-ADDRESS=Hedwigsweg 32\, Schmalkalde
 n\, 98574\, Deutschland;X-APPLE-RADIUS=100;X-TITLE=Parkplatz Schloss Wilhe
 lmsburg (Kindergarten Hedwigswiese):geo:0,0
END:VEVENT
BEGIN:VTIMEZONE
TZID:Europe/Berlin
X-LIC-LOCATION:Europe/Berlin
BEGIN:DAYLIGHT
DTSTART:20240331T030000
TZOFFSETFROM:+0100
TZOFFSETTO:+0200
TZNAME:CEST
END:DAYLIGHT
END:VTIMEZONE
END:VCALENDAR