BEGIN:VCALENDAR
VERSION:2.0
PRODID:-//wp-events-plugin.com//7.1.7//EN
TZID:Europe/Berlin
X-WR-TIMEZONE:Europe/Berlin
BEGIN:VEVENT
UID:805@prachtregion.de
DTSTART;TZID=Europe/Berlin:20240818T092000
DTEND;TZID=Europe/Berlin:20240818T182000
DTSTAMP:20240820T053008Z
URL:https://prachtregion.de/event/bahnhofsfest-wernshausen-dampflok-sonder
 fahrten-schmalkalden-wernshausen/
SUMMARY:Bahnhofsfest Wernshausen: Dampflok Sonderfahrten Schmalkalden - Wer
 nshausen
DESCRIPTION:Schmalkalden feiert 1150-jähriges Bestehen seit der urkundlich
 en Ersterwähnung - das muss gefeiert werden!\n\nNeben Bauernmarkt\, Konze
 rten und viel Trubel an der Viba Nougat-Welt wird es auch am Schmalkalder 
 Hauptbahnhof geschäftig zugehen. In Verbindung mit dem Bahnhofsfest in We
 rnshausen wird eine Dampflok mit Personenwagons zwischen den Hauptbahnhof 
 Schmalkalden und dem Bahnhof in Wernshausen pendeln. Tickets für Fahrten 
 sind bis einschließlich 17. August in der Tourist-Information Schmalkalde
 n erhältlich und Rest-Tickets werden am 18. August an den jeweiligen Bahn
 höfen vor Ort verkauft. Ticketpreis pro Fahrt\, pro Person 11\,50€.\n\n
 Fahrplan\nSchmalkalden - Wernshausen\n10:20 | 12:20 | 14:20 | 16:20 | 18:2
 0 Uhr\n\nWernshausen - Schmalkalden\n09:20 | 11:20 | 13:20 | 15:20 | 17:20
  Uhr
ATTACH;FMTTYPE=image/jpeg:https://prachtregion.de/wp-content/uploads/2024/
 08/railroad-3378897_1280.jpg
LOCATION:Hauptbahnhof Schmalkalden\, Westendstraße\, Schmalkalden\, 98574\
 , Deutschland
X-APPLE-STRUCTURED-LOCATION;VALUE=URI;X-ADDRESS=Westendstraße\, Schmalkald
 en\, 98574\, Deutschland;X-APPLE-RADIUS=100;X-TITLE=Hauptbahnhof Schmalkal
 den:geo:0,0
END:VEVENT
BEGIN:VTIMEZONE
TZID:Europe/Berlin
X-LIC-LOCATION:Europe/Berlin
BEGIN:DAYLIGHT
DTSTART:20240331T030000
TZOFFSETFROM:+0100
TZOFFSETTO:+0200
TZNAME:CEST
END:DAYLIGHT
END:VTIMEZONE
END:VCALENDAR