BEGIN:VCALENDAR
VERSION:2.0
PRODID:-//wp-events-plugin.com//7.1.7//EN
TZID:Europe/Berlin
X-WR-TIMEZONE:Europe/Berlin
BEGIN:VEVENT
UID:467@prachtregion.de
DTSTART;TZID=Europe/Berlin;VALUE=DATE:20240707
DTEND;TZID=Europe/Berlin;VALUE=DATE:20240708
DTSTAMP:20240118T131938Z
URL:https://prachtregion.de/event/bergmannsfest-am-huehn/
SUMMARY:Bergmannsfest am "Hühn"
DESCRIPTION:Auch in diesem Jahr wird der Bergmannstag im Besucherbergwerk 
 „Hühn“ gefeiert. Führungen\, die durch echte Bergmänner begleitet w
 erden\, erfreuen sich immer großer Beliebtheit bei den Besuchern – und 
 hier erwartet die Gäste sogar eine Schatzsuche. Außerdem kann man die Un
 iformen und Ausrüstungen echter Bergmänner bewundern.\n\nFoto: Tourismus
  GmbH Brotterode-Trusetal
ATTACH;FMTTYPE=image/jpeg:https://prachtregion.de/wp-content/uploads/2024/
 01/Bergmannsfest-web.jpg
LOCATION:Brotterode-Trusetal\, Besucherbergwerk "Hühn"\, Eisensteinstraße
  91 \,  Brotterode-Trusetal\, 98596 \, Deutschland
X-APPLE-STRUCTURED-LOCATION;VALUE=URI;X-ADDRESS=Eisensteinstraße 91 \,  Br
 otterode-Trusetal\, 98596 \, Deutschland;X-APPLE-RADIUS=100;X-TITLE=Brotte
 rode-Trusetal\, Besucherbergwerk \"Hühn\":geo:0,0
END:VEVENT
BEGIN:VTIMEZONE
TZID:Europe/Berlin
X-LIC-LOCATION:Europe/Berlin
BEGIN:DAYLIGHT
DTSTART:20240331T030000
TZOFFSETFROM:+0100
TZOFFSETTO:+0200
TZNAME:CEST
END:DAYLIGHT
END:VTIMEZONE
END:VCALENDAR