BEGIN:VCALENDAR
VERSION:2.0
PRODID:-//wp-events-plugin.com//7.2.3.1//EN
TZID:Europe/Berlin
X-WR-TIMEZONE:Europe/Berlin
BEGIN:VEVENT
UID:422@prachtregion.de
DTSTART;TZID=Europe/Berlin;VALUE=DATE:20240501
DTEND;TZID=Europe/Berlin;VALUE=DATE:20240502
DTSTAMP:20240117T135927Z
URL:https://prachtregion.de/event/brunnenfest-im-haderholz/
SUMMARY:Brunnenfest im Haderholz
DESCRIPTION:
ATTACH;FMTTYPE=image/jpeg:https://prachtregion.de/wp-content/uploads/2024/
 01/Haderholzquelle-web.jpg
LOCATION:Flo-Seligenthal\, Brunnen im Haderholz\, Am Sportpl. 21\, Floh-Sel
 igenthal\, 98593\, Deutschland
X-APPLE-STRUCTURED-LOCATION;VALUE=URI;X-ADDRESS=Am Sportpl. 21\, Floh-Selig
 enthal\, 98593\, Deutschland;X-APPLE-RADIUS=100;X-TITLE=Flo-Seligenthal\, 
 Brunnen im Haderholz:geo:0,0
END:VEVENT
BEGIN:VTIMEZONE
TZID:Europe/Berlin
X-LIC-LOCATION:Europe/Berlin
BEGIN:DAYLIGHT
DTSTART:20240331T030000
TZOFFSETFROM:+0100
TZOFFSETTO:+0200
TZNAME:CEST
END:DAYLIGHT
END:VTIMEZONE
END:VCALENDAR