BEGIN:VCALENDAR
VERSION:2.0
PRODID:-//wp-events-plugin.com//7.1.7//EN
TZID:Europe/Berlin
X-WR-TIMEZONE:Europe/Berlin
BEGIN:VEVENT
UID:1473@prachtregion.de
DTSTART;TZID=Europe/Berlin:20251018T190000
DTEND;TZID=Europe/Berlin:20251018T190000
DTSTAMP:20250915T054211Z
URL:https://prachtregion.de/event/da-capo-session-22/
SUMMARY:Da Capo-Session
DESCRIPTION:Da Capo-Session: „Konzert mit „Jed Thomas &amp\; Band“\n\
 nJed Thomas aus Yorkshire (UK) spielt einen einzigartigen\, unverkennbaren
  und großartigen Blues-Rock-Stil\, den er live seit vielen Jahren mit Gr
 ößen wie Joe Bonamassa\, Rory Gallagher Band\, Buddy Guy und Nine Below 
 Zero zelebriert. Sein Blues-Gitarrenspiel ist eine Mischung aus klassische
 m Delta-Style\, slide-guitar und Electric Blues. 2013 wurde sein Album „
 It´s about bloody time“ weltweit von den Kritikern gelobt und von den R
 adiosendern ausgiebig gespielt. Die darauffolgende Europa-Tournee war ausv
 erkauft und sorgte allerorts für große Begeisterung.\nJed Thomas – ein
  echtes Blues-Schmankerl\, das live seine Magie voll entfaltet\, im kleins
 ten Club genauso wie auf dem größten Festival.\n\nAb sofort verbindliche
  Reservierung über E-mail-Adresse: info.da-capo@t-online.de\nKartenpreis:
  15€\nSoweit dann noch vorhanden\, sind Karten auch an der Abendkasse er
 hältlich!\n\nDa Capo Zella-Mehlis ist mehr als nur gute Musik!\n\nKontakt
 :\nMusikverein Da Capo e.V.\nFrank Holland\nRodebachstr. 77 a\n98544 Zella
 -Mehlis\nTel.: 0176/31557040\nE-Mail: info.da-capo@t-online.de
ATTACH;FMTTYPE=image/jpeg:https://prachtregion.de/wp-content/uploads/2025/
 09/Jed-Thomas-KAG.png
LOCATION:Da Capo-Vereinsraum\, Rodebachstr. 77 a\, Zella-Mehlis\, 98544\, D
 eutschland
X-APPLE-STRUCTURED-LOCATION;VALUE=URI;X-ADDRESS=Rodebachstr. 77 a\, Zella-M
 ehlis\, 98544\, Deutschland;X-APPLE-RADIUS=100;X-TITLE=Da Capo-Vereinsraum
 :geo:0,0
END:VEVENT
BEGIN:VTIMEZONE
TZID:Europe/Berlin
X-LIC-LOCATION:Europe/Berlin
BEGIN:DAYLIGHT
DTSTART:20250330T030000
TZOFFSETFROM:+0100
TZOFFSETTO:+0200
TZNAME:CEST
END:DAYLIGHT
END:VTIMEZONE
END:VCALENDAR