BEGIN:VCALENDAR
VERSION:2.0
PRODID:-//wp-events-plugin.com//7.1.7//EN
TZID:Europe/Berlin
X-WR-TIMEZONE:Europe/Berlin
BEGIN:VEVENT
UID:234@prachtregion.de
DTSTART;TZID=Europe/Berlin:20230624T180000
DTEND;TZID=Europe/Berlin:20230624T180000
DTSTAMP:20230602T112903Z
URL:https://prachtregion.de/event/da-capo-session-6/
SUMMARY:Da Capo-Session
DESCRIPTION:Da Capo-Session: Hofkonzert mit "Audio Xperience" und "Hazy Cro
 wes"\nAuch in diesem Jahr läuten wir den Sommer mit lauten\, rockigen Kl
 ängen im Hof des Bürgerhauses in Zella-Mehlis ein. Für Speis und Trank 
 ist natürlich ebenfalls wieder bestens gesorgt!\nAlso kommt vorbei und fe
 iert mit uns die Sommerparty des Jahres in Zella-Mehlis - wir freuen uns a
 uf euch!\n\nDie Bands:\n"AudioXperience"\nDie etwas andere Band des Rock´
 n Blues gibt sich zum wiederholten Mal in Zella-Mehlis die Ehre.\nNeue Ban
 d - Alte Hasen: Vier gestandene Musiker haben sich für dieses Projekt zus
 ammen gefunden\, die gleichzeitig bei "B4" (Erfurt)\, "The Thors" und "Har
 dholz" (Tambach-Dietharz) aktiv sind. Sie rocken\, was Gitarren und Amps h
 ergeben\, seit 2022 auch mit Keyboard.\nLive &amp\; Loud: Es gibt was auf 
 die Ohren: Classic Rock\, Hardrock\, Psychedelic Rock\, Rockblues\, Blues-
 Rock bilden eine wunderbare Einheit. Selten gespielte\, anspruchsvolle Son
 gs runden das Programm ab. Auch Geige und Flöte lassen aufhorchen\, alles
  mit Leidenschaft und garaniert live gespielt.\n\n"Hazy Crowes"\n... spiel
 en eine große Bandbreite von Neil Young´s besten Liedern im Stil seiner 
 berühmten Begleitband "Crazy Horse"\, näher als sie ist da niemand am Or
 iginalsound dran. Die Gitarren sind wie schwere Motoren\, die heiß laufen
 \, zu stottern beginnen\, zu barsten drohen\, abschmieren und wieder neu g
 estartet werden. Dabei vermag es dem einen oder anderen Zuhörer eine Gän
 sehaut zu überziehen\, wenn solo akustisch und mit Mundharmonika das Hear
 t of Gold oder die Tragik von der Needle and the Damage Done besungen wird
 . Vor allem die Stimme des Sängers und Leadgitarristen gaukelt einem vor\
 , der Meister selbst stünde auf der Bühne und bläst dazu allein auf wei
 ter Flur in seine Mundharmonika. Zweifellos sind aber jene Momente die bes
 ten\, in denen die "Hazy Crowes" die brachialen Seiten ihrer Virtuosität 
 bis ins Destruktive ausleben: Hey Hey\, My My\, Rockin´ in the free World
  oder das Klanggewitter Like a Hurricane. Hier wird Rock in seiner raueste
 n und beständigsten Form garantiert. Abwechslungsreich\, lässig\, laut\,
  gut. Rock´n Roll will never die...\n\nKartenpreis: 15\,00 €\nAb sofort
  verbindliche Reservierungen über info@da-capo.info\nKartenvorverkauf auc
 h über die Tourist-Information Zella-Mehlis\n\n(Abendkasse nur bei Verfü
 gbarkeit)\n\nKontakt:\nMusikverein "Da Capo" e.V.\nHerr Frank Holland\nRod
 ebachstr. 77 a\nTel.: 0176/31557040\nE-Mail: info@da-capo.info
ATTACH;FMTTYPE=image/jpeg:https://prachtregion.de/wp-content/uploads/2023/
 06/k-AudioXperience.jpg
LOCATION:Da Capo-Vereinsraum\, Rodebachstr. 77 a\, Zella-Mehlis\, 98544\, D
 eutschland
X-APPLE-STRUCTURED-LOCATION;VALUE=URI;X-ADDRESS=Rodebachstr. 77 a\, Zella-M
 ehlis\, 98544\, Deutschland;X-APPLE-RADIUS=100;X-TITLE=Da Capo-Vereinsraum
 :geo:0,0
END:VEVENT
BEGIN:VTIMEZONE
TZID:Europe/Berlin
X-LIC-LOCATION:Europe/Berlin
BEGIN:DAYLIGHT
DTSTART:20230326T030000
TZOFFSETFROM:+0100
TZOFFSETTO:+0200
TZNAME:CEST
END:DAYLIGHT
END:VTIMEZONE
END:VCALENDAR