BEGIN:VCALENDAR
VERSION:2.0
PRODID:-//wp-events-plugin.com//7.1.7//EN
TZID:Europe/Berlin
X-WR-TIMEZONE:Europe/Berlin
BEGIN:VEVENT
UID:1538@prachtregion.de
DTSTART;TZID=Europe/Berlin:20251227T180000
DTEND;TZID=Europe/Berlin:20251227T180000
DTSTAMP:20251119T101741Z
URL:https://prachtregion.de/event/doppelkopfturnier-zwischen-den-tagen-wol
 fmannshausen/
SUMMARY:Doppelkopfturnier zwischen den Tagen - Wolfmannshausen
DESCRIPTION:
ATTACH;FMTTYPE=image/jpeg:https://prachtregion.de/wp-content/uploads/2025/
 11/wolfmannshausen_doppelkopf.jpg
LOCATION:Vereinsgebäude DJK Wolfmannshausen\, Vereinsgebäude DJK Wolfmann
 shausen\, Grabfeld OT Wolfmannshausen\, 98631\, Deutschland
X-APPLE-STRUCTURED-LOCATION;VALUE=URI;X-ADDRESS=Vereinsgebäude DJK Wolfman
 nshausen\, Grabfeld OT Wolfmannshausen\, 98631\, Deutschland;X-APPLE-RADIU
 S=100;X-TITLE=Vereinsgebäude DJK Wolfmannshausen:geo:0,0
END:VEVENT
BEGIN:VTIMEZONE
TZID:Europe/Berlin
X-LIC-LOCATION:Europe/Berlin
BEGIN:STANDARD
DTSTART:20251026T020000
TZOFFSETFROM:+0200
TZOFFSETTO:+0100
TZNAME:CET
END:STANDARD
END:VTIMEZONE
END:VCALENDAR