BEGIN:VCALENDAR
VERSION:2.0
PRODID:-//wp-events-plugin.com//7.2.3.1//EN
TZID:Europe/Berlin
X-WR-TIMEZONE:Europe/Berlin
BEGIN:VEVENT
UID:1142@prachtregion.de
DTSTART;TZID=Europe/Berlin;VALUE=DATE:20250227
DTEND;TZID=Europe/Berlin;VALUE=DATE:20250304
DTSTAMP:20250228T064548Z
URL:https://prachtregion.de/event/gagen-karneval-viernau/
SUMMARY:Gagen Karneval Viernau
DESCRIPTION:Donnerstag\, 27.02\n20:15 Uhr Weiberfastnacht\nFreitag\, 28.02\
 n21:00 Uhr Karnevalsfreitag\nSamstag\, 01.03\n21:00 Uhr Karnevalssamstag\n
 Sonntag\, 02.03\n14:00 Uhr Großer Festumzug der Karnevalisten\n20:00 Uhr 
 Karnevalssonntag\nMontag\, 03.03\n14.00 Uhr Rosenmontagsumzug\n20:00 Uhr R
 osenmontagsball
ATTACH;FMTTYPE=image/jpeg:https://prachtregion.de/wp-content/uploads/2025/
 02/Karneval-2025.jpg
LOCATION:Mehrzweckhalle (Sporthalle) Viernau\, Am Stieg 1\, Steinbach-Halle
 nberg\, 98587\, Deutschland
X-APPLE-STRUCTURED-LOCATION;VALUE=URI;X-ADDRESS=Am Stieg 1\, Steinbach-Hall
 enberg\, 98587\, Deutschland;X-APPLE-RADIUS=100;X-TITLE=Mehrzweckhalle (Sp
 orthalle) Viernau:geo:0,0
END:VEVENT
BEGIN:VTIMEZONE
TZID:Europe/Berlin
X-LIC-LOCATION:Europe/Berlin
BEGIN:STANDARD
DTSTART:20241027T020000
TZOFFSETFROM:+0200
TZOFFSETTO:+0100
TZNAME:CET
END:STANDARD
END:VTIMEZONE
END:VCALENDAR