BEGIN:VCALENDAR
VERSION:2.0
PRODID:-//wp-events-plugin.com//7.1.7//EN
TZID:Europe/Berlin
X-WR-TIMEZONE:Europe/Berlin
BEGIN:VEVENT
UID:469@prachtregion.de
DTSTART;TZID=Europe/Berlin;VALUE=DATE:20240727
DTEND;TZID=Europe/Berlin;VALUE=DATE:20240826
DTSTAMP:20240118T132217Z
URL:https://prachtregion.de/event/grasgruen-sommerkultur-in-meiningen/
SUMMARY:Grasgrün - Sommerkultur in Meiningen
DESCRIPTION:Seit 13 Jahren heißt es im August „GRASGRÜN - Sommerkultur 
 in Meiningen“. Bei gutem Wetter erlebt man im Schlosshof Hochkaräter\, 
 vor allem aus den Bereichen Jazz und Weltmusik sowie Filme mit Sommerflair
 . In der Stadtkirche finden wöchentlich Orgelkonzerte statt und Oldtimerf
 reunde kommen am letzten Juli-Samstag auf dem Markt auf ihre Kosten.
ATTACH;FMTTYPE=image/jpeg:https://prachtregion.de/wp-content/uploads/2024/
 01/Grasgruen-MGN-web.jpg
LOCATION:Meiningen\, Markt\, Meiningen\, 98617\, Deutschland
X-APPLE-STRUCTURED-LOCATION;VALUE=URI;X-ADDRESS=Markt\, Meiningen\, 98617\,
  Deutschland;X-APPLE-RADIUS=100;X-TITLE=Meiningen:geo:0,0
END:VEVENT
BEGIN:VTIMEZONE
TZID:Europe/Berlin
X-LIC-LOCATION:Europe/Berlin
BEGIN:DAYLIGHT
DTSTART:20240331T030000
TZOFFSETFROM:+0100
TZOFFSETTO:+0200
TZNAME:CEST
END:DAYLIGHT
END:VTIMEZONE
END:VCALENDAR