BEGIN:VCALENDAR
VERSION:2.0
PRODID:-//wp-events-plugin.com//7.2.3.1//EN
TZID:Europe/Berlin
X-WR-TIMEZONE:Europe/Berlin
BEGIN:VEVENT
UID:287@prachtregion.de
DTSTART;TZID=Europe/Berlin:20231111T201100
DTEND;TZID=Europe/Berlin:20231111T201100
DTSTAMP:20231004T072234Z
URL:https://prachtregion.de/event/karnevalsauftakt-in-die-54-session-des-m
 ehliser-carneval-club-e-v/
SUMMARY:Karnevalsauftakt in die 54. Session des Mehliser Carneval Club e.V.
DESCRIPTION:Liebe Freunde des Mehliser Carneval Club e.V.!\nWir laden euch 
 ganz herzlich ein zu unserem Auftakt in die 54. Session des MCC e.V. unter
  dem Motto: "In manchen Köpfen ist fast Nacht!". Pünktlich am 11.11.2023
 \, um 20:11 Uhr marschiert der MCC e.V. mit seinen Mitgliedern von Groß b
 is Klein in die Narhalla des Gasthauses "Einsiedel" ein.\nWir starten in d
 ie neue Session mit einer legendären Einsiedel-Oldie-Party. Es legt für 
 euch unser DJ Daniel aus Steinbach-Hallenberg auf. Außerdem präsentieren
  unsere Flummis\, die Tanzmäuse\, die Fünkchen und die Lubenbachforellen
  des Mehliser Carneval Club e.V. ihre neuen Tänze der Session.\nLasst euc
 h also überraschen!\nFür das leibliche Wohl ist im Gasthaus "Einsiedel" 
 bestens gesorgt!\nKommt vorbei\, wenn es wieder heißt "Zella-Mehlis Helau
 "!\n\nKontakt:\nMCC e.V.\nHerr Daniel Fleischer\n98544 Zella-Mehlis\nTel.:
  0160/1863075\nE-Mail: vorstand@dermcc.de
ATTACH;FMTTYPE=image/jpeg:https://prachtregion.de/wp-content/uploads/2023/
 09/k-Oldie_Party_11112023_1.jpg
LOCATION:Gasthaus "Einsiedel"\, Schönauer Str. 80\, Zella-Mehlis\, 98544\,
  Deutschland
X-APPLE-STRUCTURED-LOCATION;VALUE=URI;X-ADDRESS=Schönauer Str. 80\, Zella-
 Mehlis\, 98544\, Deutschland;X-APPLE-RADIUS=100;X-TITLE=Gasthaus \"Einsied
 el\":geo:0,0
END:VEVENT
BEGIN:VTIMEZONE
TZID:Europe/Berlin
X-LIC-LOCATION:Europe/Berlin
BEGIN:STANDARD
DTSTART:20231029T020000
TZOFFSETFROM:+0200
TZOFFSETTO:+0100
TZNAME:CET
END:STANDARD
END:VTIMEZONE
END:VCALENDAR