BEGIN:VCALENDAR
VERSION:2.0
PRODID:-//wp-events-plugin.com//7.1.7//EN
TZID:Europe/Berlin
X-WR-TIMEZONE:Europe/Berlin
BEGIN:VEVENT
UID:1089@prachtregion.de
DTSTART;TZID=Europe/Berlin:20250919T000000
DTEND;TZID=Europe/Berlin:20250921T000000
DTSTAMP:20250125T073436Z
URL:https://prachtregion.de/event/kirmes-in-struth-helmershof/
SUMMARY:Kirmes in Struth-Helmershof
DESCRIPTION:
ATTACH;FMTTYPE=image/jpeg:https://prachtregion.de/wp-content/uploads/2025/
 01/Strtuh.png
LOCATION:Struth-Helmersshof\, Hartplatz\, 98593 Floh-Seligenthal\, Struth-H
 elmershof\, 98593\, Deutschland
X-APPLE-STRUCTURED-LOCATION;VALUE=URI;X-ADDRESS=98593 Floh-Seligenthal\, St
 ruth-Helmershof\, 98593\, Deutschland;X-APPLE-RADIUS=100;X-TITLE=Struth-He
 lmersshof\, Hartplatz:geo:0,0
END:VEVENT
BEGIN:VTIMEZONE
TZID:Europe/Berlin
X-LIC-LOCATION:Europe/Berlin
BEGIN:DAYLIGHT
DTSTART:20250330T030000
TZOFFSETFROM:+0100
TZOFFSETTO:+0200
TZNAME:CEST
END:DAYLIGHT
END:VTIMEZONE
END:VCALENDAR