BEGIN:VCALENDAR
VERSION:2.0
PRODID:-//wp-events-plugin.com//7.2.3.1//EN
TZID:Europe/Berlin
X-WR-TIMEZONE:Europe/Berlin
BEGIN:VEVENT
UID:991@prachtregion.de
DTSTART;TZID=Europe/Berlin:20241214T100000
DTEND;TZID=Europe/Berlin:20241215T180000
DTSTAMP:20241119T104302Z
URL:https://prachtregion.de/event/rodel-advent-weihnachtsmarkt-zum-rodelwe
 ltcup/
SUMMARY:Rodel Advent - Weihnachtsmarkt zum Rodelweltcup
DESCRIPTION:Passend zur Jahreszeit wird in Oberhof zum 3. EBERSPÄCHER Rode
 l Weltcup 2024/2025 ein Weihnachtsmarkt direkt auf dem Gelände der LOTTO 
 Thüringen EISARENA stattfinden. - Quasi der sportlichste Weihnachtsmarkt 
 Thüringens!\nLasst euch verzaubern von sportlichen Höchstleistungen in V
 erschmelzung mit Besinnlichkeit der Weihnachtszeit. Die Buden auf unserem 
 Eventgelände bieten euch zahlreiche Köstlichkeiten und weihnachtliche Le
 ckereien\, sowie auch einige schöne Verkaufsstände. Für das Rahmenprogr
 amm und Weihnachtsstimmung ist auch nach den Rodelwettbewerben bestens ges
 orgt! Speziell unsere kleinen Weihnachtswichtel können sich auf viele sch
 öne Angebote und Überraschungen freuen.\n\nAm Samstag ist der Weihnachts
 markt von 10:00 - 18:00 Uhr geöffnet. Der Eintritt auf das Gelände ist a
 b 14:00 Uhr kostenfrei.\n\nAm Sonntag ist der Weihnachtsmarkt von 10:00 - 
 17:00 Uhr geöffnet. Der Eintritt auf das Gelände ist ab 13:30 Uhr kosten
 frei.\n\nWICHTIGER HINWEIS:\nAn der Bahn stehen keine Parkplätze zur Verf
 ügung. Bitte nutzen Sie die kostenfreien Shuttlebusse von und nach Oberho
 f.\n\nWeitere Informationen erhalten Sie auf unserer Website.\nhttps://www
 .tsbv.de/
ATTACH;FMTTYPE=image/jpeg:https://prachtregion.de/wp-content/uploads/2024/
 11/Flyer-RodelAdvent-klein.png
LOCATION:LOTTO Thüringen EISARENA\, Alte Ohrdrufer Straße 6\, Oberhof\, 9
 8559\, Deutschland
X-APPLE-STRUCTURED-LOCATION;VALUE=URI;X-ADDRESS=Alte Ohrdrufer Straße 6\, 
 Oberhof\, 98559\, Deutschland;X-APPLE-RADIUS=100;X-TITLE=LOTTO Thüringen 
 EISARENA:geo:0,0
END:VEVENT
BEGIN:VTIMEZONE
TZID:Europe/Berlin
X-LIC-LOCATION:Europe/Berlin
BEGIN:STANDARD
DTSTART:20241027T020000
TZOFFSETFROM:+0200
TZOFFSETTO:+0100
TZNAME:CET
END:STANDARD
END:VTIMEZONE
END:VCALENDAR