BEGIN:VCALENDAR
VERSION:2.0
PRODID:-//wp-events-plugin.com//7.1.7//EN
TZID:Europe/Berlin
X-WR-TIMEZONE:Europe/Berlin
BEGIN:VEVENT
UID:637@prachtregion.de
DTSTART;TZID=Europe/Berlin:20240501T100000
DTEND;TZID=Europe/Berlin:20240501T180000
DTSTAMP:20240326T140057Z
URL:https://prachtregion.de/event/tag-der-offenen-tuer-bei-der-feuerwehr-s
 teinbach-hallenberg/
SUMMARY:Tag der offenen Tür bei der Feuerwehr Steinbach-Hallenberg
DESCRIPTION:Erbsensuppe aus der Gulaschkanone\, großes Kuchenbuffet\,\nHü
 pfburg\, verschiedene Stände zum Mitmachen\, große Fahrzeugschau mit Vor
 stellung des neuen TLF3000\,\nmusikalische Umrahmung mit den Stilletaler M
 usikanten\n\norg. von der FFW Steinbach-Hallenberg
ATTACH;FMTTYPE=image/jpeg:https://prachtregion.de/wp-content/uploads/2024/
 03/Tag-der-offenen-Tuer-Feuerwehr-Steinbach-Hallenberg.jpg
LOCATION:im Feuerwehrgerätehaus Steinbach-Hallenberg\, Lindenstraße 57\, 
 Steinbach-Hallenberg\, 98587\, Deutschland
X-APPLE-STRUCTURED-LOCATION;VALUE=URI;X-ADDRESS=Lindenstraße 57\, Steinbac
 h-Hallenberg\, 98587\, Deutschland;X-APPLE-RADIUS=100;X-TITLE=im Feuerwehr
 gerätehaus Steinbach-Hallenberg:geo:0,0
END:VEVENT
BEGIN:VTIMEZONE
TZID:Europe/Berlin
X-LIC-LOCATION:Europe/Berlin
BEGIN:DAYLIGHT
DTSTART:20240331T030000
TZOFFSETFROM:+0100
TZOFFSETTO:+0200
TZNAME:CEST
END:DAYLIGHT
END:VTIMEZONE
END:VCALENDAR