BEGIN:VCALENDAR
VERSION:2.0
PRODID:-//wp-events-plugin.com//7.1.7//EN
TZID:Europe/Berlin
X-WR-TIMEZONE:Europe/Berlin
BEGIN:VEVENT
UID:1107@prachtregion.de
DTSTART;TZID=Europe/Berlin:20250914T100000
DTEND;TZID=Europe/Berlin:20250914T160000
DTSTAMP:20250130T121602Z
URL:https://prachtregion.de/event/tag-des-offenen-denkmals-3/
SUMMARY:Tag des offenen Denkmals
DESCRIPTION:Tag des offenen Denkmals\n\nDer Eintritt ist frei!\n\nKontakt:\
 nTechnikmuseum „Gesenkschmiede“\nLubenbachstr. 2\n98544 Zella-Mehlis\n
 Tel.: 03682/43345\nE-Mail: museum@zella-mehlis.de
ATTACH;FMTTYPE=image/jpeg:https://prachtregion.de/wp-content/uploads/2025/
 01/Gesenkschmiede-KAG-1.jpg
LOCATION:Technikmuseum Gesenkschmiede\, Lubenbachstr. 2\, Zella-Mehlis\, 98
 544\, Deutschland
X-APPLE-STRUCTURED-LOCATION;VALUE=URI;X-ADDRESS=Lubenbachstr. 2\, Zella-Meh
 lis\, 98544\, Deutschland;X-APPLE-RADIUS=100;X-TITLE=Technikmuseum Gesenks
 chmiede:geo:0,0
END:VEVENT
BEGIN:VTIMEZONE
TZID:Europe/Berlin
X-LIC-LOCATION:Europe/Berlin
BEGIN:DAYLIGHT
DTSTART:20250330T030000
TZOFFSETFROM:+0100
TZOFFSETTO:+0200
TZNAME:CEST
END:DAYLIGHT
END:VTIMEZONE
END:VCALENDAR