BEGIN:VCALENDAR
VERSION:2.0
PRODID:-//wp-events-plugin.com//7.1.7//EN
TZID:Europe/Berlin
X-WR-TIMEZONE:Europe/Berlin
BEGIN:VEVENT
UID:517@prachtregion.de
DTSTART;TZID=Europe/Berlin;VALUE=DATE:20241019
DTEND;TZID=Europe/Berlin;VALUE=DATE:20241021
DTSTAMP:20240723T092130Z
URL:https://prachtregion.de/event/thueringer-meisterschaft-im-karnevalisti
 schen-tanzsport/
SUMMARY:Thüringer Meisterschaft im karnevalistischen Tanzsport
DESCRIPTION:Im Oktober 2024 wird der Wasunger Carneval Club zum 7. Mal die 
 Thüringer Meisterschaften im karnevalistischen Tanzsport ausrichten. Dies
 es verbandsinterne Turnier mit überregionaler Bedeutung findet in der Spo
 rt- und Mehrzweckhalle Schmalkalden statt. Begrüßen wird der WCC rund 70
 0 Tänzer und Tänzerinnen aus rund 30\nThüringer Vereinen\, die sich dem
  sportlichen Wettkampf stellen.\n\nFoto: WCC Wasungen
ATTACH;FMTTYPE=image/jpeg:https://prachtregion.de/wp-content/uploads/2024/
 01/KArnevalistisches-Tanzen-web.jpg
LOCATION:Schmalkalden\, Sport- und Mehrzweckhalle\, Teichstraße 10 \,  Sch
 malkalden\, 98574 \, Deutschland
X-APPLE-STRUCTURED-LOCATION;VALUE=URI;X-ADDRESS=Teichstraße 10 \,  Schmalk
 alden\, 98574 \, Deutschland;X-APPLE-RADIUS=100;X-TITLE=Schmalkalden\, Spo
 rt- und Mehrzweckhalle:geo:0,0
END:VEVENT
BEGIN:VTIMEZONE
TZID:Europe/Berlin
X-LIC-LOCATION:Europe/Berlin
BEGIN:DAYLIGHT
DTSTART:20240331T030000
TZOFFSETFROM:+0100
TZOFFSETTO:+0200
TZNAME:CEST
END:DAYLIGHT
END:VTIMEZONE
END:VCALENDAR