BEGIN:VCALENDAR
VERSION:2.0
PRODID:-//wp-events-plugin.com//7.2.3.1//EN
TZID:Europe/Berlin
X-WR-TIMEZONE:Europe/Berlin
BEGIN:VEVENT
UID:384@prachtregion.de
DTSTART;TZID=Europe/Berlin;VALUE=DATE:20240209
DTEND;TZID=Europe/Berlin;VALUE=DATE:20240210
DTSTAMP:20240117T100724Z
URL:https://prachtregion.de/event/weiberfastnacht-in-breitungen/
SUMMARY:Weiberfastnacht in Breitungen
DESCRIPTION:
ATTACH;FMTTYPE=image/jpeg:https://prachtregion.de/wp-content/uploads/2024/
 01/Weiberfastnacht-Breitungen-Web.jpg
LOCATION:Kulturhaus am Kraftwerk\, Salzunger Str. 24 98597 Breitungen/Werra
 \,  Breitungen/Werra\,  98597\, Deutschland
X-APPLE-STRUCTURED-LOCATION;VALUE=URI;X-ADDRESS=Salzunger Str. 24 98597 Bre
 itungen/Werra\,  Breitungen/Werra\,  98597\, Deutschland;X-APPLE-RADIUS=10
 0;X-TITLE=Kulturhaus am Kraftwerk:geo:0,0
END:VEVENT
BEGIN:VTIMEZONE
TZID:Europe/Berlin
X-LIC-LOCATION:Europe/Berlin
BEGIN:STANDARD
DTSTART:20231029T020000
TZOFFSETFROM:+0200
TZOFFSETTO:+0100
TZNAME:CET
END:STANDARD
END:VTIMEZONE
END:VCALENDAR