BEGIN:VCALENDAR
VERSION:2.0
PRODID:-//wp-events-plugin.com//7.2.3.1//EN
TZID:Europe/Berlin
X-WR-TIMEZONE:Europe/Berlin
BEGIN:VEVENT
UID:317@prachtregion.de
DTSTART;TZID=Europe/Berlin:20231124T170000
DTEND;TZID=Europe/Berlin:20231124T200000
DTSTAMP:20231106T091952Z
URL:https://prachtregion.de/event/winter-markt/
SUMMARY:Winter MARKT
DESCRIPTION:Die Gemeinschaftsschule in Bibra lädt am 24. November 2023 von
  17 bis 20 Uhr herzlich zum Wintermarkt ein\, bei dem Besucher kulinarisch
 e Köstlichkeiten\, kreative Geschenkideen und eine stimmungsvolle Atmosph
 äre erleben können. Freuen Sie sich auf spannende Schulführungen\, musi
 kalische Highlights und leckere Verkostungen - die Schule heißt alle Gäs
 te herzlich willkommen!
ATTACH;FMTTYPE=image/jpeg:https://prachtregion.de/wp-content/uploads/2023/
 11/WinterMarkt.png
LOCATION:Gemeinschaftsschule Grabfeld\, Obere Dorfstraße 4\, Grabfeld OT B
 ibra\, 98631\, Deutschland
X-APPLE-STRUCTURED-LOCATION;VALUE=URI;X-ADDRESS=Obere Dorfstraße 4\, Grabf
 eld OT Bibra\, 98631\, Deutschland;X-APPLE-RADIUS=100;X-TITLE=Gemeinschaft
 sschule Grabfeld:geo:0,0
END:VEVENT
BEGIN:VTIMEZONE
TZID:Europe/Berlin
X-LIC-LOCATION:Europe/Berlin
BEGIN:STANDARD
DTSTART:20231029T020000
TZOFFSETFROM:+0200
TZOFFSETTO:+0100
TZNAME:CET
END:STANDARD
END:VTIMEZONE
END:VCALENDAR